Package: FamAgg Version: 1.26.0 Command: /home/biocbuild/bbs-3.16-bioc/R/bin/R CMD check --install=check:FamAgg.install-out.txt --library=/home/biocbuild/bbs-3.16-bioc/R/site-library --timings FamAgg_1.26.0.tar.gz StartedAt: 2023-04-10 20:39:52 -0400 (Mon, 10 Apr 2023) EndedAt: 2023-04-10 20:42:28 -0400 (Mon, 10 Apr 2023) EllapsedTime: 156.3 seconds RetCode: 0 Status: OK CheckDir: FamAgg.Rcheck Warnings: 0