Package: GEOmetadb Version: 1.60.0 Command: rm -rf GEOmetadb.buildbin-libdir && mkdir GEOmetadb.buildbin-libdir && /Users/biocbuild/BBS/utils/build-universal.sh GEOmetadb_1.60.0.tar.gz /Library/Frameworks/R.framework/Resources/bin/R GEOmetadb.buildbin-libdir StartedAt: 2023-04-10 23:45:31 -0400 (Mon, 10 Apr 2023) EndedAt: 2023-04-10 23:45:40 -0400 (Mon, 10 Apr 2023) EllapsedTime: 9.1 seconds RetCode: 0 Status: OK PackageFile: GEOmetadb_1.60.0.tgz PackageFileSize: 419.2 KiB