Package: GEOmetadb Version: 1.60.0 Command: /Library/Frameworks/R.framework/Resources/bin/R CMD build --keep-empty-dirs --no-resave-data GEOmetadb StartedAt: 2023-04-10 16:41:00 -0400 (Mon, 10 Apr 2023) EndedAt: 2023-04-10 16:41:21 -0400 (Mon, 10 Apr 2023) EllapsedTime: 20.3 seconds RetCode: 0 Status: OK PackageFile: GEOmetadb_1.60.0.tar.gz PackageFileSize: 509.9 KiB