Package: GEOmetadb Version: 1.60.0 Command: /home/biocbuild/bbs-3.16-bioc/R/bin/R CMD build --keep-empty-dirs --no-resave-data GEOmetadb StartedAt: 2023-04-10 16:51:43 -0400 (Mon, 10 Apr 2023) EndedAt: 2023-04-10 16:52:02 -0400 (Mon, 10 Apr 2023) EllapsedTime: 18.5 seconds RetCode: 0 Status: OK PackageFile: GEOmetadb_1.60.0.tar.gz PackageFileSize: 512.6 KiB