Package: GEOmetadb Version: 1.60.0 Command: chmod a+r GEOmetadb -R && F:\biocbuild\bbs-3.16-bioc\R\bin\R.exe CMD build --keep-empty-dirs --no-resave-data GEOmetadb StartedAt: 2023-04-10 18:57:47 -0400 (Mon, 10 Apr 2023) EndedAt: 2023-04-10 18:58:21 -0400 (Mon, 10 Apr 2023) EllapsedTime: 33.7 seconds RetCode: 0 Status: OK PackageFile: GEOmetadb_1.60.0.tar.gz PackageFileSize: 20.34 MiB