Package: GSALightning Version: 1.25.0 Command: /Library/Frameworks/R.framework/Resources/bin/R CMD INSTALL GSALightning StartedAt: 2022-07-10 15:10:48 -0400 (Sun, 10 Jul 2022) EndedAt: 2022-07-10 15:10:57 -0400 (Sun, 10 Jul 2022) EllapsedTime: 8.8 seconds RetCode: 0 Status: OK