Package: GSALightning Version: 1.26.0 Command: rm -rf GSALightning.buildbin-libdir && mkdir GSALightning.buildbin-libdir && F:\biocbuild\bbs-3.16-bioc\R\bin\R.exe CMD INSTALL --build --library=GSALightning.buildbin-libdir GSALightning_1.26.0.tar.gz StartedAt: 2023-04-11 08:06:43 -0400 (Tue, 11 Apr 2023) EndedAt: 2023-04-11 08:06:53 -0400 (Tue, 11 Apr 2023) EllapsedTime: 9.4 seconds RetCode: 0 Status: OK PackageFile: GSALightning_1.26.0.zip PackageFileSize: 4.259 MiB