Package: GSVA Version: 1.46.0 Command: rm -rf GSVA.buildbin-libdir && mkdir GSVA.buildbin-libdir && /Users/biocbuild/BBS/utils/build-universal.sh GSVA_1.46.0.tar.gz /Library/Frameworks/R.framework/Resources/bin/R GSVA.buildbin-libdir StartedAt: 2023-04-10 23:46:51 -0400 (Mon, 10 Apr 2023) EndedAt: 2023-04-10 23:47:34 -0400 (Mon, 10 Apr 2023) EllapsedTime: 42.1 seconds RetCode: 0 Status: OK PackageFile: GSVA_1.46.0.tgz PackageFileSize: 1.703 MiB