Package: GSVA Version: 1.46.0 Command: /home/biocbuild/bbs-3.16-bioc/R/bin/R CMD build --keep-empty-dirs --no-resave-data GSVA StartedAt: 2023-04-10 16:57:04 -0400 (Mon, 10 Apr 2023) EndedAt: 2023-04-10 17:00:10 -0400 (Mon, 10 Apr 2023) EllapsedTime: 186.0 seconds RetCode: 0 Status: OK PackageFile: GSVA_1.46.0.tar.gz PackageFileSize: 2.163 MiB