Package: GSVA Version: 1.46.0 Command: rm -rf GSVA.buildbin-libdir && mkdir GSVA.buildbin-libdir && F:\biocbuild\bbs-3.16-bioc\R\bin\R.exe CMD INSTALL --build --library=GSVA.buildbin-libdir GSVA_1.46.0.tar.gz StartedAt: 2023-04-11 08:07:05 -0400 (Tue, 11 Apr 2023) EndedAt: 2023-04-11 08:07:45 -0400 (Tue, 11 Apr 2023) EllapsedTime: 39.9 seconds RetCode: 0 Status: OK PackageFile: GSVA_1.46.0.zip PackageFileSize: 1.499 MiB