Package: GSVA Version: 1.46.0 Command: F:\biocbuild\bbs-3.16-bioc\R\bin\R.exe CMD check --no-multiarch --install=check:GSVA.install-out.txt --library=F:\biocbuild\bbs-3.16-bioc\R\library --no-vignettes --timings GSVA_1.46.0.tar.gz StartedAt: 2023-04-11 02:12:07 -0400 (Tue, 11 Apr 2023) EndedAt: 2023-04-11 02:16:51 -0400 (Tue, 11 Apr 2023) EllapsedTime: 283.9 seconds RetCode: 0 Status: OK CheckDir: GSVA.Rcheck Warnings: 0