Package: GSVA Version: 1.46.0 Command: F:\biocbuild\bbs-3.16-bioc\R\bin\R.exe CMD INSTALL GSVA StartedAt: 2023-04-10 16:30:14 -0400 (Mon, 10 Apr 2023) EndedAt: 2023-04-10 16:30:55 -0400 (Mon, 10 Apr 2023) EllapsedTime: 41.0 seconds RetCode: 0 Status: OK