Package: GeneExpressionSignature Version: 1.44.0 Command: rm -rf GeneExpressionSignature.buildbin-libdir && mkdir GeneExpressionSignature.buildbin-libdir && F:\biocbuild\bbs-3.16-bioc\R\bin\R.exe CMD INSTALL --build --library=GeneExpressionSignature.buildbin-libdir GeneExpressionSignature_1.44.0.tar.gz StartedAt: 2023-04-11 08:02:16 -0400 (Tue, 11 Apr 2023) EndedAt: 2023-04-11 08:02:42 -0400 (Tue, 11 Apr 2023) EllapsedTime: 26.0 seconds RetCode: 0 Status: OK PackageFile: GeneExpressionSignature_1.44.0.zip PackageFileSize: 2.529 MiB