Package: GenomicInteractionNodes Version: 1.2.0 Command: rm -rf GenomicInteractionNodes.buildbin-libdir && mkdir GenomicInteractionNodes.buildbin-libdir && F:\biocbuild\bbs-3.16-bioc\R\bin\R.exe CMD INSTALL --build --library=GenomicInteractionNodes.buildbin-libdir GenomicInteractionNodes_1.2.0.tar.gz StartedAt: 2023-04-11 08:03:37 -0400 (Tue, 11 Apr 2023) EndedAt: 2023-04-11 08:04:27 -0400 (Tue, 11 Apr 2023) EllapsedTime: 50.0 seconds RetCode: 0 Status: OK PackageFile: GenomicInteractionNodes_1.2.0.zip PackageFileSize: 276.6 KiB