Package: GenomicOZone Version: 1.12.0 Command: /Library/Frameworks/R.framework/Resources/bin/R CMD build --keep-empty-dirs --no-resave-data GenomicOZone StartedAt: 2023-04-10 16:40:23 -0400 (Mon, 10 Apr 2023) EndedAt: 2023-04-10 16:42:46 -0400 (Mon, 10 Apr 2023) EllapsedTime: 143.4 seconds RetCode: 0 Status: OK PackageFile: GenomicOZone_1.12.0.tar.gz PackageFileSize: 932.5 KiB