Package: GenomicRanges Version: 1.50.2 Command: /Library/Frameworks/R.framework/Resources/bin/R CMD check --install=check:GenomicRanges.install-out.txt --library=/Library/Frameworks/R.framework/Resources/library --no-vignettes --timings GenomicRanges_1.50.2.tar.gz StartedAt: 2023-04-10 20:23:46 -0400 (Mon, 10 Apr 2023) EndedAt: 2023-04-10 20:27:44 -0400 (Mon, 10 Apr 2023) EllapsedTime: 238.0 seconds RetCode: 0 Status: OK CheckDir: GenomicRanges.Rcheck Warnings: 0