Package: GraphAlignment Version: 1.62.0 Command: rm -rf GraphAlignment.buildbin-libdir && mkdir GraphAlignment.buildbin-libdir && /Users/biocbuild/BBS/utils/build-universal.sh GraphAlignment_1.62.0.tar.gz /Library/Frameworks/R.framework/Resources/bin/R GraphAlignment.buildbin-libdir StartedAt: 2023-04-10 23:46:32 -0400 (Mon, 10 Apr 2023) EndedAt: 2023-04-10 23:46:39 -0400 (Mon, 10 Apr 2023) EllapsedTime: 6.8 seconds RetCode: 0 Status: OK PackageFile: GraphAlignment_1.62.0.tgz PackageFileSize: 575 KiB