Package: IPO Version: 1.23.1 Command: /Library/Frameworks/R.framework/Resources/bin/R CMD INSTALL IPO StartedAt: 2022-07-10 18:29:09 -0400 (Sun, 10 Jul 2022) EndedAt: 2022-07-10 18:32:49 -0400 (Sun, 10 Jul 2022) EllapsedTime: 219.0 seconds RetCode: 0 Status: OK