Package: IPO Version: 1.24.0 Command: rm -rf IPO.buildbin-libdir && mkdir IPO.buildbin-libdir && F:\biocbuild\bbs-3.16-bioc\R\bin\R.exe CMD INSTALL --build --library=IPO.buildbin-libdir IPO_1.24.0.tar.gz StartedAt: 2023-04-11 08:11:03 -0400 (Tue, 11 Apr 2023) EndedAt: 2023-04-11 08:12:08 -0400 (Tue, 11 Apr 2023) EllapsedTime: 65.7 seconds RetCode: 0 Status: OK PackageFile: IPO_1.24.0.zip PackageFileSize: 499.9 KiB