Package: IPO Version: 1.24.0 Command: F:\biocbuild\bbs-3.16-bioc\R\bin\R.exe CMD check --no-multiarch --install=check:IPO.install-out.txt --library=F:\biocbuild\bbs-3.16-bioc\R\library --no-vignettes --timings IPO_1.24.0.tar.gz StartedAt: 2023-04-11 02:35:45 -0400 (Tue, 11 Apr 2023) EndedAt: 2023-04-11 02:54:59 -0400 (Tue, 11 Apr 2023) EllapsedTime: 1153.4 seconds RetCode: 0 Status: OK CheckDir: IPO.Rcheck Warnings: 0