Package: M3Drop Version: 1.24.0 Command: rm -rf M3Drop.buildbin-libdir && mkdir M3Drop.buildbin-libdir && /Users/biocbuild/BBS/utils/build-universal.sh M3Drop_1.24.0.tar.gz /Library/Frameworks/R.framework/Resources/bin/R M3Drop.buildbin-libdir StartedAt: 2023-04-10 23:49:57 -0400 (Mon, 10 Apr 2023) EndedAt: 2023-04-10 23:50:20 -0400 (Mon, 10 Apr 2023) EllapsedTime: 23.1 seconds RetCode: 0 Status: OK PackageFile: M3Drop_1.24.0.tgz PackageFileSize: 12.47 MiB