Package: MBECS Version: 1.2.0 Command: rm -rf MBECS.buildbin-libdir && mkdir MBECS.buildbin-libdir && F:\biocbuild\bbs-3.16-bioc\R\bin\R.exe CMD INSTALL --build --library=MBECS.buildbin-libdir MBECS_1.2.0.tar.gz StartedAt: 2023-04-11 08:15:37 -0400 (Tue, 11 Apr 2023) EndedAt: 2023-04-11 08:16:05 -0400 (Tue, 11 Apr 2023) EllapsedTime: 28.3 seconds RetCode: 0 Status: OK PackageFile: MBECS_1.2.0.zip PackageFileSize: 506.5 KiB