Package: MEDME Version: 1.57.0 Command: /Library/Frameworks/R.framework/Resources/bin/R CMD INSTALL MEDME StartedAt: 2022-07-10 18:06:11 -0400 (Sun, 10 Jul 2022) EndedAt: 2022-07-10 18:06:54 -0400 (Sun, 10 Jul 2022) EllapsedTime: 43.2 seconds RetCode: 0 Status: OK