Package: MGFM Version: 1.32.0 Command: /Library/Frameworks/R.framework/Resources/bin/R CMD check --install=check:MGFM.install-out.txt --library=/Library/Frameworks/R.framework/Resources/library --no-vignettes --timings MGFM_1.32.0.tar.gz StartedAt: 2023-04-10 21:10:45 -0400 (Mon, 10 Apr 2023) EndedAt: 2023-04-10 21:12:26 -0400 (Mon, 10 Apr 2023) EllapsedTime: 100.5 seconds RetCode: 0 Status: OK CheckDir: MGFM.Rcheck Warnings: 0