Package: MGFM Version: 1.32.0 Command: /home/biocbuild/bbs-3.16-bioc/R/bin/R CMD INSTALL MGFM StartedAt: 2023-04-10 15:33:59 -0400 (Mon, 10 Apr 2023) EndedAt: 2023-04-10 15:34:18 -0400 (Mon, 10 Apr 2023) EllapsedTime: 18.6 seconds RetCode: 0 Status: OK