Package: MIRA Version: 1.20.0 Command: rm -rf MIRA.buildbin-libdir && mkdir MIRA.buildbin-libdir && /Users/biocbuild/BBS/utils/build-universal.sh MIRA_1.20.0.tar.gz /Library/Frameworks/R.framework/Resources/bin/R MIRA.buildbin-libdir StartedAt: 2023-04-10 23:52:13 -0400 (Mon, 10 Apr 2023) EndedAt: 2023-04-10 23:52:59 -0400 (Mon, 10 Apr 2023) EllapsedTime: 45.4 seconds RetCode: 0 Status: OK PackageFile: MIRA_1.20.0.tgz PackageFileSize: 2.48 MiB