Package: MIRA Version: 1.20.0 Command: /home/biocbuild/bbs-3.16-bioc/R/bin/R CMD INSTALL MIRA StartedAt: 2023-04-10 15:45:48 -0400 (Mon, 10 Apr 2023) EndedAt: 2023-04-10 15:46:43 -0400 (Mon, 10 Apr 2023) EllapsedTime: 55.5 seconds RetCode: 0 Status: OK