Package: MLP Version: 1.46.0 Command: rm -rf MLP.buildbin-libdir && mkdir MLP.buildbin-libdir && /Users/biocbuild/BBS/utils/build-universal.sh MLP_1.46.0.tar.gz /Library/Frameworks/R.framework/Resources/bin/R MLP.buildbin-libdir StartedAt: 2023-04-10 23:52:38 -0400 (Mon, 10 Apr 2023) EndedAt: 2023-04-10 23:52:56 -0400 (Mon, 10 Apr 2023) EllapsedTime: 18.2 seconds RetCode: 0 Status: OK PackageFile: MLP_1.46.0.tgz PackageFileSize: 4.34 MiB