Package: MSnbase Version: 2.24.2 Command: /Library/Frameworks/R.framework/Resources/bin/R CMD build --keep-empty-dirs --no-resave-data MSnbase StartedAt: 2023-04-10 17:14:28 -0400 (Mon, 10 Apr 2023) EndedAt: 2023-04-10 17:17:17 -0400 (Mon, 10 Apr 2023) EllapsedTime: 169.2 seconds RetCode: 0 Status: OK PackageFile: MSnbase_2.24.2.tar.gz PackageFileSize: 5.582 MiB