Package: MotifDb Version: 1.40.0 Command: /Library/Frameworks/R.framework/Resources/bin/R CMD INSTALL MotifDb StartedAt: 2023-04-10 15:33:26 -0400 (Mon, 10 Apr 2023) EndedAt: 2023-04-10 15:34:15 -0400 (Mon, 10 Apr 2023) EllapsedTime: 48.5 seconds RetCode: 0 Status: OK