Package: NOISeq Version: 2.42.0 Command: /Library/Frameworks/R.framework/Resources/bin/R CMD check --install=check:NOISeq.install-out.txt --library=/Library/Frameworks/R.framework/Resources/library --no-vignettes --timings NOISeq_2.42.0.tar.gz StartedAt: 2023-04-10 21:32:43 -0400 (Mon, 10 Apr 2023) EndedAt: 2023-04-10 21:34:19 -0400 (Mon, 10 Apr 2023) EllapsedTime: 96.4 seconds RetCode: 0 Status: OK CheckDir: NOISeq.Rcheck Warnings: 0