Package: NOISeq Version: 2.42.0 Command: /home/biocbuild/bbs-3.16-bioc/R/bin/R CMD build --keep-empty-dirs --no-resave-data NOISeq StartedAt: 2023-04-10 17:25:42 -0400 (Mon, 10 Apr 2023) EndedAt: 2023-04-10 17:27:08 -0400 (Mon, 10 Apr 2023) EllapsedTime: 86.4 seconds RetCode: 0 Status: OK PackageFile: NOISeq_2.42.0.tar.gz PackageFileSize: 1.886 MiB