Package: NOISeq Version: 2.42.0 Command: chmod a+r NOISeq -R && F:\biocbuild\bbs-3.16-bioc\R\bin\R.exe CMD build --keep-empty-dirs --no-resave-data NOISeq StartedAt: 2023-04-10 20:12:17 -0400 (Mon, 10 Apr 2023) EndedAt: 2023-04-10 20:13:26 -0400 (Mon, 10 Apr 2023) EllapsedTime: 68.9 seconds RetCode: 0 Status: OK PackageFile: NOISeq_2.42.0.tar.gz PackageFileSize: 1.895 MiB