Package: PepsNMR Version: 1.16.0 Command: rm -rf PepsNMR.buildbin-libdir && mkdir PepsNMR.buildbin-libdir && F:\biocbuild\bbs-3.16-bioc\R\bin\R.exe CMD INSTALL --build --library=PepsNMR.buildbin-libdir PepsNMR_1.16.0.tar.gz StartedAt: 2023-04-11 08:29:20 -0400 (Tue, 11 Apr 2023) EndedAt: 2023-04-11 08:29:41 -0400 (Tue, 11 Apr 2023) EllapsedTime: 20.3 seconds RetCode: 0 Status: OK PackageFile: PepsNMR_1.16.0.zip PackageFileSize: 790.4 KiB