Package: PepsNMR Version: 1.16.0 Command: chmod a+r PepsNMR -R && F:\biocbuild\bbs-3.16-bioc\R\bin\R.exe CMD build --keep-empty-dirs --no-resave-data PepsNMR StartedAt: 2023-04-10 20:34:42 -0400 (Mon, 10 Apr 2023) EndedAt: 2023-04-10 20:39:44 -0400 (Mon, 10 Apr 2023) EllapsedTime: 302.4 seconds RetCode: 0 Status: OK PackageFile: PepsNMR_1.16.0.tar.gz PackageFileSize: 685.3 KiB