Package: Pi Version: 2.9.0 Command: /Library/Frameworks/R.framework/Resources/bin/R CMD INSTALL Pi StartedAt: 2022-07-10 19:02:15 -0400 (Sun, 10 Jul 2022) EndedAt: 2022-07-10 19:10:08 -0400 (Sun, 10 Jul 2022) EllapsedTime: 473.8 seconds RetCode: 0 Status: OK