Package: Pi Version: 2.10.0 Command: /Library/Frameworks/R.framework/Resources/bin/R CMD INSTALL Pi StartedAt: 2023-04-10 15:22:34 -0400 (Mon, 10 Apr 2023) EndedAt: 2023-04-10 15:23:21 -0400 (Mon, 10 Apr 2023) EllapsedTime: 47.3 seconds RetCode: 0 Status: OK