Package: Pi Version: 2.10.0 Command: /home/biocbuild/bbs-3.16-bioc/R/bin/R CMD check --install=check:Pi.install-out.txt --library=/home/biocbuild/bbs-3.16-bioc/R/site-library --timings Pi_2.10.0.tar.gz StartedAt: 2023-04-10 22:53:16 -0400 (Mon, 10 Apr 2023) EndedAt: 2023-04-10 22:59:46 -0400 (Mon, 10 Apr 2023) EllapsedTime: 390.6 seconds RetCode: 0 Status: WARNINGS CheckDir: Pi.Rcheck Warnings: 2