Package: PloGO2 Version: 1.9.0 Command: /Library/Frameworks/R.framework/Resources/bin/R CMD INSTALL PloGO2 StartedAt: 2022-07-10 16:42:21 -0400 (Sun, 10 Jul 2022) EndedAt: 2022-07-10 16:43:47 -0400 (Sun, 10 Jul 2022) EllapsedTime: 85.9 seconds RetCode: 0 Status: OK