Package: PloGO2 Version: 1.10.0 Command: /Library/Frameworks/R.framework/Resources/bin/R CMD INSTALL PloGO2 StartedAt: 2023-04-10 15:25:33 -0400 (Mon, 10 Apr 2023) EndedAt: 2023-04-10 15:25:59 -0400 (Mon, 10 Apr 2023) EllapsedTime: 26.2 seconds RetCode: 0 Status: OK