Package: REDseq Version: 1.43.0 Command: /Library/Frameworks/R.framework/Resources/bin/R CMD INSTALL REDseq StartedAt: 2022-07-10 18:56:20 -0400 (Sun, 10 Jul 2022) EndedAt: 2022-07-10 18:56:21 -0400 (Sun, 10 Jul 2022) EllapsedTime: 1.1 seconds RetCode: 1 Status: ERROR