Package: REDseq Version: 1.44.0 Command: rm -rf REDseq.buildbin-libdir && mkdir REDseq.buildbin-libdir && /Users/biocbuild/BBS/utils/build-universal.sh REDseq_1.44.0.tar.gz /Library/Frameworks/R.framework/Resources/bin/R REDseq.buildbin-libdir StartedAt: 2023-04-10 23:59:45 -0400 (Mon, 10 Apr 2023) EndedAt: 2023-04-11 00:00:39 -0400 (Tue, 11 Apr 2023) EllapsedTime: 53.3 seconds RetCode: 0 Status: OK PackageFile: REDseq_1.44.0.tgz PackageFileSize: 415.1 KiB