Package: REDseq Version: 1.44.0 Command: /home/biocbuild/bbs-3.16-bioc/R/bin/R CMD check --install=check:REDseq.install-out.txt --library=/home/biocbuild/bbs-3.16-bioc/R/site-library --timings REDseq_1.44.0.tar.gz StartedAt: 2023-04-10 23:20:50 -0400 (Mon, 10 Apr 2023) EndedAt: 2023-04-10 23:26:17 -0400 (Mon, 10 Apr 2023) EllapsedTime: 326.7 seconds RetCode: 0 Status: OK CheckDir: REDseq.Rcheck Warnings: 0