Package: REDseq Version: 1.44.0 Command: rm -rf REDseq.buildbin-libdir && mkdir REDseq.buildbin-libdir && F:\biocbuild\bbs-3.16-bioc\R\bin\R.exe CMD INSTALL --build --library=REDseq.buildbin-libdir REDseq_1.44.0.tar.gz StartedAt: 2023-04-11 08:37:08 -0400 (Tue, 11 Apr 2023) EndedAt: 2023-04-11 08:38:00 -0400 (Tue, 11 Apr 2023) EllapsedTime: 52.1 seconds RetCode: 0 Status: OK PackageFile: REDseq_1.44.0.zip PackageFileSize: 215.8 KiB