Package: REDseq Version: 1.44.0 Command: chmod a+r REDseq -R && F:\biocbuild\bbs-3.16-bioc\R\bin\R.exe CMD build --keep-empty-dirs --no-resave-data REDseq StartedAt: 2023-04-10 21:01:04 -0400 (Mon, 10 Apr 2023) EndedAt: 2023-04-10 21:02:20 -0400 (Mon, 10 Apr 2023) EllapsedTime: 75.8 seconds RetCode: 0 Status: OK PackageFile: REDseq_1.44.0.tar.gz PackageFileSize: 156.8 KiB