Package: RGSEA Version: 1.32.0 Command: /home/biocbuild/bbs-3.16-bioc/R/bin/R CMD check --install=check:RGSEA.install-out.txt --library=/home/biocbuild/bbs-3.16-bioc/R/site-library --timings RGSEA_1.32.0.tar.gz StartedAt: 2023-04-07 23:25:38 -0400 (Fri, 07 Apr 2023) EndedAt: 2023-04-07 23:26:33 -0400 (Fri, 07 Apr 2023) EllapsedTime: 55.0 seconds RetCode: 0 Status: OK CheckDir: RGSEA.Rcheck Warnings: 0