Package: RLassoCox Version: 1.6.0 Command: /Library/Frameworks/R.framework/Resources/bin/R CMD check --install=check:RLassoCox.install-out.txt --library=/Library/Frameworks/R.framework/Resources/library --no-vignettes --timings RLassoCox_1.6.0.tar.gz StartedAt: 2023-04-10 22:16:21 -0400 (Mon, 10 Apr 2023) EndedAt: 2023-04-10 22:19:57 -0400 (Mon, 10 Apr 2023) EllapsedTime: 216.5 seconds RetCode: 0 Status: OK CheckDir: RLassoCox.Rcheck Warnings: 0