Package: ROSeq Version: 1.10.0 Command: rm -rf ROSeq.buildbin-libdir && mkdir ROSeq.buildbin-libdir && /Users/biocbuild/BBS/utils/build-universal.sh ROSeq_1.10.0.tar.gz /Library/Frameworks/R.framework/Resources/bin/R ROSeq.buildbin-libdir StartedAt: 2023-04-11 00:01:53 -0400 (Tue, 11 Apr 2023) EndedAt: 2023-04-11 00:02:10 -0400 (Tue, 11 Apr 2023) EllapsedTime: 17.0 seconds RetCode: 0 Status: OK PackageFile: ROSeq_1.10.0.tgz PackageFileSize: 7.209 MiB