Package: ROSeq Version: 1.10.0 Command: rm -rf ROSeq.buildbin-libdir && mkdir ROSeq.buildbin-libdir && F:\biocbuild\bbs-3.16-bioc\R\bin\R.exe CMD INSTALL --build --library=ROSeq.buildbin-libdir ROSeq_1.10.0.tar.gz StartedAt: 2023-04-11 08:40:52 -0400 (Tue, 11 Apr 2023) EndedAt: 2023-04-11 08:41:31 -0400 (Tue, 11 Apr 2023) EllapsedTime: 39.3 seconds RetCode: 0 Status: OK PackageFile: ROSeq_1.10.0.zip PackageFileSize: 7.201 MiB