Package: ROSeq Version: 1.10.0 Command: chmod a+r ROSeq -R && F:\biocbuild\bbs-3.16-bioc\R\bin\R.exe CMD build --keep-empty-dirs --no-resave-data ROSeq StartedAt: 2023-04-10 21:13:49 -0400 (Mon, 10 Apr 2023) EndedAt: 2023-04-10 21:17:23 -0400 (Mon, 10 Apr 2023) EllapsedTime: 214.1 seconds RetCode: 0 Status: OK PackageFile: ROSeq_1.10.0.tar.gz PackageFileSize: 4.192 MiB